BEGIN:VCALENDAR
VERSION:2.0
PRODID:-//Andalas Training Center - ECPv6.15.14//NONSGML v1.0//EN
CALSCALE:GREGORIAN
METHOD:PUBLISH
X-WR-CALNAME:Andalas Training Center
X-ORIGINAL-URL:https://andalastrainingcenter.com
X-WR-CALDESC:Events for Andalas Training Center
REFRESH-INTERVAL;VALUE=DURATION:PT1H
X-Robots-Tag:noindex
X-PUBLISHED-TTL:PT1H
BEGIN:VTIMEZONE
TZID:Asia/Krasnoyarsk
BEGIN:STANDARD
TZOFFSETFROM:+0700
TZOFFSETTO:+0700
TZNAME:+07
DTSTART:20240101T000000
END:STANDARD
END:VTIMEZONE
BEGIN:VEVENT
DTSTART;TZID=Asia/Krasnoyarsk:20250325T080000
DTEND;TZID=Asia/Krasnoyarsk:20250412T170000
DTSTAMP:20260419T194533
CREATED:20250714T045824Z
LAST-MODIFIED:20250714T050055Z
UID:7828-1742889600-1744477200@andalastrainingcenter.com
SUMMARY:Pelatihan PEKERTI
DESCRIPTION:Pelatihan PEKERTI\, yang diselenggarakan oleh Kemendikbudristek\, adalah program untuk meningkatkan kompetensi pedagogik dosen dalam merencanakan\, melaksanakan\, dan mengevaluasi pembelajaran\, dengan fokus pada keterampilan dasar instruksional seperti penyusunan silabus\, RPP\, pemilihan metode mengajar\, dan evaluasi hasil belajar\, yang bertujuan menciptakan pembelajaran berkualitas dan berpusat pada mahasiswa.
URL:https://andalastrainingcenter.com/event/pelatihan-pekerti/
LOCATION:Online\, Indonesia
END:VEVENT
END:VCALENDAR